BEGIN:VCALENDAR
VERSION:2.0
PRODID:Events Booking
BEGIN:VEVENT
UID:69e9cac8497cc
SUMMARY:End of Year Celebration
DESCRIPTION:END OF THE YEAR CELEBRATION
 Friday\, 11/15/20246-8 PM
 Actio
 n &amp\; Atomic Duckpin Bowling
 1105 Prospect St.Indianapolis\, IN 46203
LOCATION:1105 Prospect St\, Indianapolis\, IN 46203\, USA
DTSTART:20241115T230000Z
DTEND:20241116T010000Z
DTSTAMP:20241024T182819Z
ORGANIZER;CN=Central Indiana Postal Customer Council:MAILTO:members@central
 indianapcc.com
GEO:39.752196;-86.139454
X-APPLE-STRUCTURED-LOCATION;VALUE=URI;X-ADDRESS=1105 Prospect St\, Indianap
 olis\, IN 46203\, USA;X-APPLE-RADIUS=72;X-TITLE=Action & Atomic Duckpin Bo
 wling:39.752196;-86.139454
END:VEVENT
END:VCALENDAR